BEGIN:VCALENDAR
VERSION:2.0
PRODID:-//AFA EscolaJacint Verdaguer - ECPv6.15.11//NONSGML v1.0//EN
CALSCALE:GREGORIAN
METHOD:PUBLISH
X-WR-CALNAME:AFA EscolaJacint Verdaguer
X-ORIGINAL-URL:https://www.afalagranada.cat
X-WR-CALDESC:Esdeveniments per AFA EscolaJacint Verdaguer
REFRESH-INTERVAL;VALUE=DURATION:PT1H
X-Robots-Tag:noindex
X-PUBLISHED-TTL:PT1H
BEGIN:VTIMEZONE
TZID:Europe/Madrid
BEGIN:DAYLIGHT
TZOFFSETFROM:+0100
TZOFFSETTO:+0200
TZNAME:CEST
DTSTART:20240331T010000
END:DAYLIGHT
BEGIN:STANDARD
TZOFFSETFROM:+0200
TZOFFSETTO:+0100
TZNAME:CET
DTSTART:20241027T010000
END:STANDARD
BEGIN:DAYLIGHT
TZOFFSETFROM:+0100
TZOFFSETTO:+0200
TZNAME:CEST
DTSTART:20250330T010000
END:DAYLIGHT
BEGIN:STANDARD
TZOFFSETFROM:+0200
TZOFFSETTO:+0100
TZNAME:CET
DTSTART:20251026T010000
END:STANDARD
BEGIN:DAYLIGHT
TZOFFSETFROM:+0100
TZOFFSETTO:+0200
TZNAME:CEST
DTSTART:20260329T010000
END:DAYLIGHT
BEGIN:STANDARD
TZOFFSETFROM:+0200
TZOFFSETTO:+0100
TZNAME:CET
DTSTART:20261025T010000
END:STANDARD
BEGIN:DAYLIGHT
TZOFFSETFROM:+0100
TZOFFSETTO:+0200
TZNAME:CEST
DTSTART:20270328T010000
END:DAYLIGHT
BEGIN:STANDARD
TZOFFSETFROM:+0200
TZOFFSETTO:+0100
TZNAME:CET
DTSTART:20271031T010000
END:STANDARD
END:VTIMEZONE
BEGIN:VEVENT
DTSTART;TZID=Europe/Madrid:20260411T110000
DTEND;TZID=Europe/Madrid:20260411T190000
DTSTAMP:20260422T110506
CREATED:20260307T074235Z
LAST-MODIFIED:20260307T085945Z
UID:500-1775905200-1775934000@www.afalagranada.cat
SUMMARY:Diada Cultural 2026
DESCRIPTION:El proper 11 d’abril celebrarem una Diada Cultural i volem que sigui una jornada inoblidable! Per això\, us animem a venir acompanyats de família i amics. Com més serem\, més gran serà la festa i més suport donarem al projecte per al nou pati de l’escola. \nEns trobarem al Centre Cívic de la Granada per gaudir d’un dia ple d’activitats per a totes les edats: \n\n11:00h: Gimcana per a moure el cos\n12:30h: Vermut a preus populars per fer gana\n13:30h: Arrossada Popular (Preus: 15€ adults / 10€ nens)\nTarda: Sorteig i bingo per acabar el dia\n\n  \n\nAny Gaudí: Animem a tots els nens i nenes a participar al sorteig! Només cal lliurar una manualitat o dibuix sobre Gaudí per entrar al sorteig d’un fantàstic lot cultural.\nSi necessiten inspiració \, penjarem recursos a l’app!\nTotes aquelles mares i pares que ens vulguin donar un cop de mà el dia de la festa\, agrairem tot aquest suport. Ens podeu contactar per missatge o parlar amb qualsevol membre de l’AFA i així comptarem amb vosaltres per preparar aquest gran dia! \nUs esperem el proper dia 11 d’abril! \n  \n\nCompra de tickets\nPer comprar entrades per gent o famílies que no formen part de l’escola\, ho podeu seleccionant el tipus de ticket: \nTicket Arrossada Infantil\nTicket Arrossada Adult\n  \n \n 
URL:https://www.afalagranada.cat/esdeveniment/diada-cultural-2026/
LOCATION:Centre Civic de La Granada\, Av. de Catalunya\, 135\, La Granada\, Barcelona\, 08792\, Spain
CATEGORIES:Per a infants,Per a les families
ATTACH;FMTTYPE=image/jpeg:https://www.afalagranada.cat/wp-content/uploads/2026/03/IMG_2284-1.jpeg
END:VEVENT
BEGIN:VEVENT
DTSTART;TZID=Europe/Madrid:20251220T160000
DTEND;TZID=Europe/Madrid:20251220T193000
DTSTAMP:20260422T110506
CREATED:20251216T084456Z
LAST-MODIFIED:20260307T075700Z
UID:459-1766246400-1766259000@www.afalagranada.cat
SUMMARY:Festa del solstici d'hivern
DESCRIPTION:El 20 de desembre celebrarem la tradicional Festa del solstici d’hivern de La Granada. Participa a la gimcana organitzada per l’AFA\, en col·laboració amb l’Ajuntament de La Granada\, on grans i petits haureu de trobar el secret amagat darrere les pistes repartides pel poble. \nInscriviu-vos en un dels grups i participeu en família o amics. \nPrograma\n\n16:00 Inici de la gimcana a la Plaça de l’Esglèsia\n17:00 Tallers infantils\n17:00 Berenar per als infants\n17:30 Caminada nocturna als Pujols\n\nA l’arribada al cim es farà una rifa on es sortejarà un lot amb productes nadalencs. \nFuncionament de la gimcana\nHi ha 8 grups de diferents colors. Cada grup pot estar format per un màxim de 10 persones. \nA les 16:00 hores tots els grups començaran la gimcana a la Pl. de l’Esglèsia amb un sobre amb la primera pista. Cada grup haurà de seguir les pistes dels sobres del seu mateix color fins arribar a descobrir el secret amagat. \n\nInscripció\nEl preu de la inscripció completa inclou la participació en la gimcana\, tallers infantils i berenar. Només cal inscriure als infants. No cal inscriure els adults. \nImportant: els menors de 8 anys hauran d’anar acompanyats obligatòriament per un adult per participar a la gimcana. \nSi no vols participar a la gimcana\, pots fer la inscripció només als tallers i al berenar (selecciona l’opció de tallers i berenar). \n\nGimcana\, tallers i berenar: 5 €\nTallers i berenar: 3 €\n\nEls socis de l’AFA s’han d’inscriure a través de l’app. \nSi vols inscriure persones que no son de l’AFA (acompanyants\, amics\, família…) a l’activitat\, inscriu-los a través d’aquest enllaç. \n🧭   ✂️  🍪 INSCRIPCIÓ GIMCANA\, TALLERS I BERENAR \n✂️  🍪 INSCRIPCIÓ TALLERS I BERENAR \n  \nAl fer la inscripció cal que indiquis els noms i cognoms dels infants i el grup al que els apuntes. \nTots els beneficis d’aquesta activitat aniran destinats al projecte del nou pati de l’escola Jacint Verdaguer.
URL:https://www.afalagranada.cat/esdeveniment/festa-del-solstici-dhivern/
LOCATION:Plaça de l’Església (La Granada)\, Plaça de l'Esglèsia\, La Granada\, Barcelona\, 08792\, Spain
CATEGORIES:Per a infants,Per a les families
ATTACH;FMTTYPE=image/jpeg:https://www.afalagranada.cat/wp-content/uploads/2025/12/68b1c389b26a92cf1faa37a2-events-6939e09227e9d2990fc88597-cover-festa2.jpg
END:VEVENT
END:VCALENDAR